BEGIN:VCALENDAR
VERSION:2.0
PRODID:-//Drive a Senior formerly Senior Access - ECPv6.15.20//NONSGML v1.0//EN
CALSCALE:GREGORIAN
METHOD:PUBLISH
X-WR-CALNAME:Drive a Senior formerly Senior Access
X-ORIGINAL-URL:https://senioraccesstx.org
X-WR-CALDESC:Events for Drive a Senior formerly Senior Access
REFRESH-INTERVAL;VALUE=DURATION:PT1H
X-Robots-Tag:noindex
X-PUBLISHED-TTL:PT1H
BEGIN:VTIMEZONE
TZID:UTC
BEGIN:STANDARD
TZOFFSETFROM:+0000
TZOFFSETTO:+0000
TZNAME:UTC
DTSTART:20220101T000000
END:STANDARD
END:VTIMEZONE
BEGIN:VEVENT
DTSTART;TZID=UTC:20240410T113000
DTEND;TZID=UTC:20240410T173000
DTSTAMP:20260423T174057
CREATED:20240229T142727Z
LAST-MODIFIED:20240229T142727Z
UID:640-1712748600-1712770200@senioraccesstx.org
SUMMARY:The Hole Enchilada - 20th Annual Cornhole & Golf Tournament
DESCRIPTION:Join us for The Hole Enchilada – hosted by Senior Access @ Forest Creek Golf Club on April 10th\, 2024 \nWe couldn’t decide whether to have a golf or corn hole tournament\, so we are having The Hole Enchilada! \nGet your team together to support Senior Access by participating in the golf scramble or corn hole tournament! \nVisit the link or scan the QR Code to sign up! \nSign Up Today! 
URL:https://senioraccesstx.org/event/the-hole-enchilada-20th-annual-cornhole-golf-tournament/
LOCATION:Forest Creek Golf Course\, 99 Twin Ridge Pkwy\, Round Rock\, TX\, 78664\, United States
CATEGORIES:Fundraisers,Seniors
ORGANIZER;CN="Senior Access":MAILTO:admin@senioraccesstx.org
END:VEVENT
BEGIN:VEVENT
DTSTART;TZID=UTC:20240306T120000
DTEND;TZID=UTC:20240306T230000
DTSTAMP:20260423T174057
CREATED:20240229T141056Z
LAST-MODIFIED:20240229T143016Z
UID:632-1709726400-1709766000@senioraccesstx.org
SUMMARY:Amplify Austin & Wilco 2024 - Senior Access at Finley's
DESCRIPTION:Join us on March 6th at Finley’s (Downtown Round Rock) for an unforgettable experience! \nThe Amplify Austin/Wilco – Senior Access event will feature delicious food and drink specials\, with $1 from every Blue Gin Delight and Blue Margarita going towards supporting Senior Access. Be sure to let your sever know that you’re there to support Senior Access! \nCome by and show your support! \nFinley’s Bar & Kitchen – Round Rock \n410 W. Main St. Round Rock\, TX 78664 \nHelp Us Amplify Senior Access! 
URL:https://senioraccesstx.org/event/amplify-austin-wilco-2024-senior-access-at-finleys/
LOCATION:Finley’s Bar & Kitchen\, 410 W Main St\, Round Rock\, TX\, 78664\, United States
CATEGORIES:Fundraisers,Seniors
ORGANIZER;CN="Senior Access":MAILTO:admin@senioraccesstx.org
END:VEVENT
BEGIN:VEVENT
DTSTART;TZID=UTC:20230421T100000
DTEND;TZID=UTC:20230421T123000
DTSTAMP:20260423T174057
CREATED:20230218T182521Z
LAST-MODIFIED:20230325T224826Z
UID:45-1682071200-1682080200@senioraccesstx.org
SUMMARY:Grand Adults Day
DESCRIPTION:Grand Adults Day is about getting people out of their homes\, socializing\, and enjoying each other’s company. We will enjoy bingo\, party games\, lunch\, and friends this month.
URL:https://senioraccesstx.org/event/grand-adults-day/
LOCATION:Palm Valley Lutheran Church\, 2500 E Palm Valley Blvd\,\, Round Rock\, TX\, 78665\, United States
CATEGORIES:Seniors
ATTACH;FMTTYPE=image/jpeg:https://senioraccesstx.org/wp-content/uploads/2023/02/Grand-Adults-Day.jpg
END:VEVENT
END:VCALENDAR