BEGIN:VCALENDAR
VERSION:2.0
PRODID:-//Drive a Senior formerly Senior Access - ECPv6.15.20//NONSGML v1.0//EN
CALSCALE:GREGORIAN
METHOD:PUBLISH
X-ORIGINAL-URL:https://senioraccesstx.org
X-WR-CALDESC:Events for Drive a Senior formerly Senior Access
REFRESH-INTERVAL;VALUE=DURATION:PT1H
X-Robots-Tag:noindex
X-PUBLISHED-TTL:PT1H
BEGIN:VTIMEZONE
TZID:UTC
BEGIN:STANDARD
TZOFFSETFROM:+0000
TZOFFSETTO:+0000
TZNAME:UTC
DTSTART:20220101T000000
END:STANDARD
END:VTIMEZONE
BEGIN:VEVENT
DTSTART;VALUE=DATE:20231109
DTEND;VALUE=DATE:20231110
DTSTAMP:20260423T145102
CREATED:20230906T170313Z
LAST-MODIFIED:20230906T170829Z
UID:616-1699488000-1699574399@senioraccesstx.org
SUMMARY:Senior Access 30th Birthday Party
DESCRIPTION:Senior Access is turning 30! Join us for the celebration.
URL:https://senioraccesstx.org/event/senior-access-30th-birthday-party/
LOCATION:Senior Access\, 2498 East Palm Valley\, Round Rock\, 78665\, United States
CATEGORIES:Awareness
ATTACH;FMTTYPE=image/jpeg:https://senioraccesstx.org/wp-content/uploads/2023/06/Mistletoe-Magic.jpg
ORGANIZER;CN="Senior Access":MAILTO:admin@senioraccesstx.org
END:VEVENT
BEGIN:VEVENT
DTSTART;TZID=UTC:20230826T080000
DTEND;TZID=UTC:20230826T100000
DTSTAMP:20260423T145102
CREATED:20230620T195103Z
LAST-MODIFIED:20230620T195103Z
UID:599-1693036800-1693044000@senioraccesstx.org
SUMMARY:Rescheduled Stride For Seniors
DESCRIPTION:SIGN-UP INFORMATION PLUS AVAILABLE INDIVIDUAL AND COMPANY SPONSORSHIPS \nCelebrate your favorite lady in your life by walking for our senior ladies. \n\n\n\n\n\n\n \nA Mother’s love is something\nthat no one can explain\,\nIt is made of deep devotion\nand of sacrifice and pain\,\nIt is endless and unselfish\nand enduring\, come what may\nFor nothing can destroy it\nor take that love away . . .\n– Helen Steiner Rice \nStride for Seniors is a fun walk/run to honor the special Mother/Grandmother in your life.  The 4K walk will help Senior Access provide area seniors with free transportation and support services. The funds will help coordinate rides for homebound seniors who strive for connection and independence.
URL:https://senioraccesstx.org/event/rescheduled-stride-for-seniors/
LOCATION:Gilleland Park Pavillion\, 700 N Railroad Ave.\, TX\, 78661\, United States
ATTACH;FMTTYPE=image/jpeg:https://senioraccesstx.org/wp-content/uploads/2023/06/Rescheduled-Stride-For-Seniors.jpg
ORGANIZER;CN="Senior Access":MAILTO:admin@senioraccesstx.org
END:VEVENT
BEGIN:VEVENT
DTSTART;TZID=UTC:20230506T080000
DTEND;TZID=UTC:20230506T120000
DTSTAMP:20260423T145102
CREATED:20230218T190143Z
LAST-MODIFIED:20230422T172810Z
UID:51-1683360000-1683374400@senioraccesstx.org
SUMMARY:Stride For Seniors
DESCRIPTION:Stride for Seniors 2023 honors the special women in your life.  Joining this event helps provide area seniors with free transportation and support services connecting homebound seniors who strive to be independent. What a great gift to special ladies! ​ \nSponsors are needed to make this event successful. ​ \nA Mother’s love is something\nthat no one can explain\,\nIt is made of deep devotion\nand of sacrifice and pain\,\nIt is endless and unselfish\nand enduring come what may\nFor nothing can destroy it\nor take that love away.\n– Helen Steiner Rice
URL:https://senioraccesstx.org/event/stride-for-seniors/
LOCATION:Gilleland Park Pavillion\, 700 N Railroad Ave.\, TX\, 78661\, United States
CATEGORIES:Fundraisers
ATTACH;FMTTYPE=image/png:https://senioraccesstx.org/wp-content/uploads/2023/02/POSTER-FOR-ROTARY-8X11-Flyer-1.png
END:VEVENT
BEGIN:VEVENT
DTSTART;TZID=UTC:20230421T100000
DTEND;TZID=UTC:20230421T123000
DTSTAMP:20260423T145102
CREATED:20230218T182521Z
LAST-MODIFIED:20230325T224826Z
UID:45-1682071200-1682080200@senioraccesstx.org
SUMMARY:Grand Adults Day
DESCRIPTION:Grand Adults Day is about getting people out of their homes\, socializing\, and enjoying each other’s company. We will enjoy bingo\, party games\, lunch\, and friends this month.
URL:https://senioraccesstx.org/event/grand-adults-day/
LOCATION:Palm Valley Lutheran Church\, 2500 E Palm Valley Blvd\,\, Round Rock\, TX\, 78665\, United States
CATEGORIES:Seniors
ATTACH;FMTTYPE=image/jpeg:https://senioraccesstx.org/wp-content/uploads/2023/02/Grand-Adults-Day.jpg
END:VEVENT
END:VCALENDAR